BEGIN:VCALENDAR
VERSION:2.0
PRODID:-//Squarespace Inc/Squarespace 6//v6//EN
BEGIN:VEVENT
UID:5ebe3de2a9a9737c39c3278c@squarespace.com
DTSTAMP:20200528T060330Z
DTSTART:20210519T083000Z
DTEND:20210519T113000Z
SUMMARY:An Exclusive Dinner With George Hincapie 2021
GEO:-33.863674;151.211026
LOCATION:Farrer Place\, Sydney\, NSW\, 2000\, Australia
END:VEVENT
END:VCALENDAR
