BEGIN:VCALENDAR
VERSION:2.0
PRODID:-//Squarespace Inc/Squarespace 6//v6//EN
BEGIN:VEVENT
UID:5e83d335dd2522584b23d144@squarespace.com
DTSTAMP:20200515T070939Z
DTSTART:20210520T233000Z
DTEND:20210521T003000Z
SUMMARY:Off the Wheel Lunch 2021
GEO:-37.823889;144.982653
LOCATION:The Glasshouse\, Olympic Boulevard\, Melbourne\, VIC\, Australia
END:VEVENT
END:VCALENDAR
