BEGIN:VCALENDAR
VERSION:2.0
PRODID:-//Squarespace Inc/Squarespace 6//v6//EN
BEGIN:VEVENT
UID:5ee18ab9843b6b63fc9091f7@squarespace.com
DTSTAMP:20200704T070541Z
DTSTART:20200704T100000Z
DTEND:20200704T111500Z
SUMMARY:THE EPIC DUO\; George Hincapie &amp\; Cadel Evans
END:VEVENT
END:VCALENDAR
